BEGIN:VCALENDAR
VERSION:2.0
PRODID:-//Canaan Valley, WV - ECPv6.15.14//NONSGML v1.0//EN
CALSCALE:GREGORIAN
METHOD:PUBLISH
X-WR-CALNAME:Canaan Valley, WV
X-ORIGINAL-URL:https://gettuckered.com
X-WR-CALDESC:Events for Canaan Valley, WV
REFRESH-INTERVAL;VALUE=DURATION:PT1H
X-Robots-Tag:noindex
X-PUBLISHED-TTL:PT1H
BEGIN:VTIMEZONE
TZID:America/New_York
BEGIN:DAYLIGHT
TZOFFSETFROM:-0500
TZOFFSETTO:-0400
TZNAME:EDT
DTSTART:20230312T070000
END:DAYLIGHT
BEGIN:STANDARD
TZOFFSETFROM:-0400
TZOFFSETTO:-0500
TZNAME:EST
DTSTART:20231105T060000
END:STANDARD
BEGIN:DAYLIGHT
TZOFFSETFROM:-0500
TZOFFSETTO:-0400
TZNAME:EDT
DTSTART:20240310T070000
END:DAYLIGHT
BEGIN:STANDARD
TZOFFSETFROM:-0400
TZOFFSETTO:-0500
TZNAME:EST
DTSTART:20241103T060000
END:STANDARD
BEGIN:DAYLIGHT
TZOFFSETFROM:-0500
TZOFFSETTO:-0400
TZNAME:EDT
DTSTART:20250309T070000
END:DAYLIGHT
BEGIN:STANDARD
TZOFFSETFROM:-0400
TZOFFSETTO:-0500
TZNAME:EST
DTSTART:20251102T060000
END:STANDARD
END:VTIMEZONE
BEGIN:VEVENT
DTSTART;TZID=America/New_York:20240704T120000
DTEND;TZID=America/New_York:20240704T170000
DTSTAMP:20260424T101212
CREATED:20240729T142438Z
LAST-MODIFIED:20240729T142438Z
UID:20316-1720094400-1720112400@gettuckered.com
SUMMARY:July 4th Cookout and Field Day
DESCRIPTION:Join us for an afternoon of summer fun in celebration of Independence Day! There will be burgers and hot dogs (in addition to the Mountain Owl Market’s standard fare of sandwiches and salads)\, ice cream\, lawn games\, and activities for all ages!
URL:https://gettuckered.com/event/july-4th-cookout-and-field-day/
LOCATION:Mountain Owl Market\, 2383 Timberline Rd\, Davis\, WV\, 26260\, United States
ATTACH;FMTTYPE=image/png:https://gettuckered.com/wp-content/uploads/2024/06/July4th-Poster-2024-small.png
ORGANIZER;CN="Timberline Mountain":MAILTO:info@timberlinemountain.com
END:VEVENT
END:VCALENDAR