BEGIN:VCALENDAR
VERSION:2.0
PRODID:-//Canaan Valley, WV - ECPv6.15.14//NONSGML v1.0//EN
CALSCALE:GREGORIAN
METHOD:PUBLISH
X-WR-CALNAME:Canaan Valley, WV
X-ORIGINAL-URL:https://gettuckered.com
X-WR-CALDESC:Events for Canaan Valley, WV
REFRESH-INTERVAL;VALUE=DURATION:PT1H
X-Robots-Tag:noindex
X-PUBLISHED-TTL:PT1H
BEGIN:VTIMEZONE
TZID:America/New_York
BEGIN:DAYLIGHT
TZOFFSETFROM:-0500
TZOFFSETTO:-0400
TZNAME:EDT
DTSTART:20230312T070000
END:DAYLIGHT
BEGIN:STANDARD
TZOFFSETFROM:-0400
TZOFFSETTO:-0500
TZNAME:EST
DTSTART:20231105T060000
END:STANDARD
BEGIN:DAYLIGHT
TZOFFSETFROM:-0500
TZOFFSETTO:-0400
TZNAME:EDT
DTSTART:20240310T070000
END:DAYLIGHT
BEGIN:STANDARD
TZOFFSETFROM:-0400
TZOFFSETTO:-0500
TZNAME:EST
DTSTART:20241103T060000
END:STANDARD
BEGIN:DAYLIGHT
TZOFFSETFROM:-0500
TZOFFSETTO:-0400
TZNAME:EDT
DTSTART:20250309T070000
END:DAYLIGHT
BEGIN:STANDARD
TZOFFSETFROM:-0400
TZOFFSETTO:-0500
TZNAME:EST
DTSTART:20251102T060000
END:STANDARD
END:VTIMEZONE
BEGIN:VEVENT
DTSTART;VALUE=DATE:20240203
DTEND;VALUE=DATE:20240204
DTSTAMP:20260422T123839
CREATED:20231120T211628Z
LAST-MODIFIED:20231120T212048Z
UID:14742-1706918400-1707004799@gettuckered.com
SUMMARY:FIGURE SKATING PERFORMANCES
DESCRIPTION:Come see two performances of the Charleston Figure Skating Club at the Canaan Resort Ice Rink! Meet and skate with the performers after the show!
URL:https://gettuckered.com/event/figure-skating-performances-2/
ATTACH;FMTTYPE=application/pdf:https://gettuckered.com/wp-content/uploads/2023/11/skating-1.pdf
END:VEVENT
BEGIN:VEVENT
DTSTART;TZID=America/New_York:20240204T163000
DTEND;TZID=America/New_York:20240204T193000
DTSTAMP:20260422T123839
CREATED:20240124T160453Z
LAST-MODIFIED:20240124T160453Z
UID:16238-1707064200-1707075000@gettuckered.com
SUMMARY:Love Your Library Fundraiser Dinner & Entertainment
DESCRIPTION:Come support West Virginia’s smallest library–Mountaintop Public Library\, in Thomas–and help us get a new building! Attend the “Love Your Library” Fundraiser Dinner & Entertainment\, Sunday\, Feb. 4th\, at Elender’s Restaurant in Thomas\, beginning at 4:30 pm. All proceeds benefit the new building fund. The three-course meal and literary entertainment is a production of the Friends Of Mountaintop Public Library (FOMPL)\, a non-profit whose mission is to provide financial and other types of assistance to the library. Evening will feature choice of a beef steak entree or vegan entree\, a memento of the evening\, and more. Tickets are $100 per person\, and should be purchased in advance at Emerald Tree Boutique in Davis\, at the library in Thomas (384 2nd Street)\, or at Elender’s. For more information\, contact FOMPL at 304-478-3519.
URL:https://gettuckered.com/event/love-your-library-fundraiser-dinner-entertainment/
ATTACH;FMTTYPE=image/jpeg:https://gettuckered.com/wp-content/uploads/2024/01/Love-your-LIbraryFlyer-Revised-Jan.-15.jpg
END:VEVENT
BEGIN:VEVENT
DTSTART;TZID=America/New_York:20240210T090000
DTEND;TZID=America/New_York:20240210T110000
DTSTAMP:20260422T123839
CREATED:20240131T152047Z
LAST-MODIFIED:20240131T152047Z
UID:16537-1707555600-1707562800@gettuckered.com
SUMMARY:Guided Bird Walk at Beall
DESCRIPTION:Join volunteer Laura on our monthly guided bird walk along some of the Beall trails! The walk starts at 9am at the Beall parking area and will be approximately 2 miles along pavement and dirt trails. Please dress appropriately for the weather and bring some water. We’ve got some spare binoculars if needed! \nThis event may be rescheduled or cancelled in the event of inclement weather. Please stay tuned to this page or our website for updates. \nThe address for the Beall trailhead is Co Rte 25/18\, Canaan Heights\, WV 26260
URL:https://gettuckered.com/event/guided-bird-walk-at-beall/
LOCATION:Canaan Valley National Wildlife Refuge\, 6263 Appalachian Hwy\, Davis\, WV\, 26260\, United States
ATTACH;FMTTYPE=image/png:https://gettuckered.com/wp-content/uploads/2024/01/20240210_Bird-Walk.png
ORGANIZER;CN="Canaan Valley National Wildlife Refuge":MAILTO:canaanvalley@fws.gov
END:VEVENT
BEGIN:VEVENT
DTSTART;TZID=America/New_York:20240217T080000
DTEND;TZID=America/New_York:20240217T100000
DTSTAMP:20260422T123839
CREATED:20240131T214631Z
LAST-MODIFIED:20240131T214631Z
UID:16539-1708156800-1708164000@gettuckered.com
SUMMARY:Great Backyard Bird Count Guided Hike - Part 1
DESCRIPTION:The 2024 Great Backyard Bird Count goes from February 16-19. Join us for a citizen science effort to monitor birds on the Freeland Boardwalk! We have binoculars to spare! \nThe Freeland Boardwalk is a 0.5-mile ADA-accessible boardwalk trail. Please dress appropriately for the weather. This event may be cancelled or rescheduled in the event of inclement weather. Please stay tuned to our Facebook page or website for updates to this event.
URL:https://gettuckered.com/event/great-backyard-bird-count-guided-hike-part-1/
LOCATION:Canaan Valley National Wildlife Refuge\, 6263 Appalachian Hwy\, Davis\, WV\, 26260\, United States
ATTACH;FMTTYPE=image/png:https://gettuckered.com/wp-content/uploads/2024/01/20240217_GBBC-Walk.png
ORGANIZER;CN="Canaan Valley National Wildlife Refuge":MAILTO:canaanvalley@fws.gov
END:VEVENT
BEGIN:VEVENT
DTSTART;TZID=America/New_York:20240218T150000
DTEND;TZID=America/New_York:20240218T170000
DTSTAMP:20260422T123839
CREATED:20240131T214605Z
LAST-MODIFIED:20240131T214605Z
UID:16549-1708268400-1708275600@gettuckered.com
SUMMARY:Great Backyard Bird Count Guided Hike - Part 2
DESCRIPTION:The 2024 Great Backyard Bird Count goes from February 16-19. Join us for a citizen science effort to monitor birds on some of the Beall trails! We have binoculars to spare! \nThis hike will be around 1-2 miles along dirt and pavement trails with some uneven terrain. Please dress appropriately for the weather. This event may be cancelled or rescheduled in the event of inclement weather. Please stay tuned to our Facebook page or website for updates to this event. The address for the Beall trailhead is Co Rte 35/18\, Canaan Heights\, WV 26260.
URL:https://gettuckered.com/event/great-backyard-bird-count-guided-hike-part-2/
LOCATION:Canaan Valley National Wildlife Refuge\, 6263 Appalachian Hwy\, Davis\, WV\, 26260\, United States
ATTACH;FMTTYPE=image/png:https://gettuckered.com/wp-content/uploads/2024/01/20240218_GBBC-Walk.png
ORGANIZER;CN="Canaan Valley National Wildlife Refuge":MAILTO:canaanvalley@fws.gov
END:VEVENT
BEGIN:VEVENT
DTSTART;VALUE=DATE:20240224
DTEND;VALUE=DATE:20240226
DTSTAMP:20260422T123839
CREATED:20240202T145315Z
LAST-MODIFIED:20240202T145315Z
UID:16595-1708732800-1708905599@gettuckered.com
SUMMARY:SUBARU WINTERFEST WEEKEND
DESCRIPTION:Join Canaan Resort for the Jenkin’s Subaru Winterfest Weekend! \nSponsored by WDTV Channel 5 \nAt Canaan Valley Resort Ski Area \n\n$10 off lift tickets for all Subaru owners\nFirst 50 parking spots reserved for Subaru drivers\nCome check out new 2024 car models!\nCocktail Specials in Quenchers Pub\nGiveaway from Jenkin’s Subaru and Canaan Valley Resort
URL:https://gettuckered.com/event/subaru-winterfest-weekend-2/
END:VEVENT
BEGIN:VEVENT
DTSTART;TZID=America/New_York:20240224T100000
DTEND;TZID=America/New_York:20240224T160000
DTSTAMP:20260422T123839
CREATED:20240201T152707Z
LAST-MODIFIED:20240201T152707Z
UID:16572-1708768800-1708790400@gettuckered.com
SUMMARY:Turtle Crafts
DESCRIPTION:The United States hosts the most species and subspecies of turtles in the world! These animals lived with the dinosaurs and are incredibly long-lived. What other secrets are they hiding in their shells? (Which contrary to popular belief\, turtles can’t come out of their shells!) \nStop by the Visitor Center at Canaan Valley National Wildlife Refuge to make a FREE turtle-themed craft and learn more about these turtle-y awesome animals! We hope to see you there! \nLocation: Refuge Visitor Center – 6263 Appalachian Hwy\, Davis\, WV 26260
URL:https://gettuckered.com/event/turtle-crafts/
LOCATION:Canaan Valley National Wildlife Refuge\, 6263 Appalachian Hwy\, Davis\, WV\, 26260\, United States
ATTACH;FMTTYPE=image/png:https://gettuckered.com/wp-content/uploads/2024/02/20240224_Turtle-Crafts.png
ORGANIZER;CN="Canaan Valley National Wildlife Refuge":MAILTO:canaanvalley@fws.gov
END:VEVENT
END:VCALENDAR