BEGIN:VCALENDAR
VERSION:2.0
PRODID:-//Canaan Valley, WV - ECPv6.15.14//NONSGML v1.0//EN
CALSCALE:GREGORIAN
METHOD:PUBLISH
X-ORIGINAL-URL:https://gettuckered.com
X-WR-CALDESC:Events for Canaan Valley, WV
REFRESH-INTERVAL;VALUE=DURATION:PT1H
X-Robots-Tag:noindex
X-PUBLISHED-TTL:PT1H
BEGIN:VTIMEZONE
TZID:America/New_York
BEGIN:DAYLIGHT
TZOFFSETFROM:-0500
TZOFFSETTO:-0400
TZNAME:EDT
DTSTART:20230312T070000
END:DAYLIGHT
BEGIN:STANDARD
TZOFFSETFROM:-0400
TZOFFSETTO:-0500
TZNAME:EST
DTSTART:20231105T060000
END:STANDARD
BEGIN:DAYLIGHT
TZOFFSETFROM:-0500
TZOFFSETTO:-0400
TZNAME:EDT
DTSTART:20240310T070000
END:DAYLIGHT
BEGIN:STANDARD
TZOFFSETFROM:-0400
TZOFFSETTO:-0500
TZNAME:EST
DTSTART:20241103T060000
END:STANDARD
BEGIN:DAYLIGHT
TZOFFSETFROM:-0500
TZOFFSETTO:-0400
TZNAME:EDT
DTSTART:20250309T070000
END:DAYLIGHT
BEGIN:STANDARD
TZOFFSETFROM:-0400
TZOFFSETTO:-0500
TZNAME:EST
DTSTART:20251102T060000
END:STANDARD
END:VTIMEZONE
BEGIN:VEVENT
DTSTART;TZID=America/New_York:20240302T130000
DTEND;TZID=America/New_York:20240302T210000
DTSTAMP:20260420T102142
CREATED:20240202T143951Z
LAST-MODIFIED:20240202T143951Z
UID:16592-1709384400-1709413200@gettuckered.com
SUMMARY:Hometown Brew Fest
DESCRIPTION:Join us for the 2nd Annual Hometown Brewfest! With Live Music by DJ Strizy\, Juice Newsom & The Groove\, Electric Blue and the Sodapop Gypsies. Enjoy WV Local Craft Beers from: Big Timber\, Mountain State Brewing\, High Ground Brewing\, Screech Owl\, The Free Folk Brewery\, Hawk Knob\, Greenbrier Valley Brewing\, Stumptown & More! Support the Tucker County Ambulance Authority with Raffles and a Chance to win a stay in the Bahamas. More details coming soon!
URL:https://gettuckered.com/event/hometown-brew-fest/
LOCATION:Canaan Resort
END:VEVENT
BEGIN:VEVENT
DTSTART;TZID=America/New_York:20240303T080000
DTEND;TZID=America/New_York:20240303T120000
DTSTAMP:20260420T102142
CREATED:20240116T214216Z
LAST-MODIFIED:20240116T214216Z
UID:16103-1709452800-1709467200@gettuckered.com
SUMMARY:5th Annual Sunrise Scramble
DESCRIPTION:Get your uphill/downhill skis ready for the most fun you can imagine on the slopes at Canaan Valley Resort State Park. \nCanaan Valley State Park Foundation hosts this annual fundraising event for uphill ski enthusiasts.\n$35 – adults\n$25 – kids \nScales\, skate\, and skin categories to choose from.\n1st\, 2nd\, and 3rd place prizes along with many of our favorite silly awards. Get your costumes together and join us and all of our local sponsors.
URL:https://gettuckered.com/event/5th-annual-sunrise-scramble/
LOCATION:Canaan Valley Resort Ski Area
ATTACH;FMTTYPE=image/jpeg:https://gettuckered.com/wp-content/uploads/2024/01/Web-Ad-2024.jpg
ORGANIZER;CN="Canaan Valley State Park Foundation":MAILTO:canaanspfoundation@gmail.com
END:VEVENT
BEGIN:VEVENT
DTSTART;TZID=America/New_York:20240316T180000
DTEND;TZID=America/New_York:20240316T190000
DTSTAMP:20260420T102142
CREATED:20240227T172621Z
LAST-MODIFIED:20240227T172621Z
UID:16957-1710612000-1710615600@gettuckered.com
SUMMARY:Wild Yards Presentation
DESCRIPTION:Join us for a presentation by Michelle Fonda on the WV DNR Wild Yards Program! Whether you have a little garden or a large property\, any space can be transformed to benefit wildlife. Come learn how you can make your yard attractive wildlife habitat! \nThis is a FREE program and open to the public. Presentation will start in the Visitor Center at 6pm. Following the program\, there will be a question-and-answer session about the Canaan Valley Master Naturalist program for those who wish to attend. \nAddress: 6263 Appalachian Hwy\, Davis\, WV 26260
URL:https://gettuckered.com/event/wild-yards-presentation/
LOCATION:Canaan Valley National Wildlife Refuge\, 6263 Appalachian Hwy\, Davis\, WV\, 26260\, United States
ATTACH;FMTTYPE=image/png:https://gettuckered.com/wp-content/uploads/2024/02/20240316_Wild-Yards.png
ORGANIZER;CN="Canaan Valley National Wildlife Refuge":MAILTO:canaanvalley@fws.gov
END:VEVENT
BEGIN:VEVENT
DTSTART;TZID=America/New_York:20240317T130000
DTEND;TZID=America/New_York:20240317T150000
DTSTAMP:20260420T102142
CREATED:20240227T172336Z
LAST-MODIFIED:20240312T145314Z
UID:16958-1710680400-1710687600@gettuckered.com
SUMMARY:Watershed Walk
DESCRIPTION:Did you know that all the water that falls in Canaan Valley flows towards the Gulf of Mexico? Or that tiny invertebrates can help measure the health of a stream? \nJoin us for a guided hike to learn more about the wonderful watersheds of Canaan Valley! AmeriCorps intern Samantha will lead this hike up Idleman’s Run trail. The walk will be around two miles on gravel and native material trails with portions being very uneven. \nThis event may be rescheduled or canceled in the event of inclement weather. Please stay tuned to our website and Facebook page for updates to this event. We will meet at the Hunter Access Lot at the end of Freeland Road/beginning of Forest Road 80.
URL:https://gettuckered.com/event/watershed-walk/
LOCATION:Canaan Valley National Wildlife Refuge\, 6263 Appalachian Hwy\, Davis\, WV\, 26260\, United States
ATTACH;FMTTYPE=image/png:https://gettuckered.com/wp-content/uploads/2024/02/20240317_Watershed-Walk.png
ORGANIZER;CN="Canaan Valley National Wildlife Refuge":MAILTO:canaanvalley@fws.gov
END:VEVENT
BEGIN:VEVENT
DTSTART;TZID=America/New_York:20240329T190000
DTEND;TZID=America/New_York:20240329T203000
DTSTAMP:20260420T102142
CREATED:20240301T155119Z
LAST-MODIFIED:20240312T151126Z
UID:17086-1711738800-1711744200@gettuckered.com
SUMMARY:Woodcock Walk
DESCRIPTION:With some of the smoothest dance moves on the ground and in the air\, the American woodcock is a sight to behold. Join us for an evening walk to search for this magnificent bird!\nRegistration is required. This is a FREE program\, but space is limited. To sign up for the walk\, send an email to william_yarley@fws.gov or call/leave a message 681-481-2317 to sign up.\nProgram starts at 7pm at the Timberline Road ADA Fishing Pier. After a short presentation from LeJay Graffious\, we will take a walk on a service road through grasslands. This short walk will be around one mile on a mostly-level dirt path.\nAddress: 39.0365700\, -79.4259802\nThe Timberline ADA Fishing Pier is located one mile down Timberline Road coming from Route 32.
URL:https://gettuckered.com/event/woodcock-walk/
LOCATION:Canaan Valley National Wildlife Refuge\, 6263 Appalachian Hwy\, Davis\, WV\, 26260\, United States
ATTACH;FMTTYPE=image/png:https://gettuckered.com/wp-content/uploads/2024/02/20240329_Woodcock-Walk.png
ORGANIZER;CN="Canaan Valley National Wildlife Refuge":MAILTO:canaanvalley@fws.gov
END:VEVENT
BEGIN:VEVENT
DTSTART;TZID=America/New_York:20240330T110000
DTEND;TZID=America/New_York:20240330T120000
DTSTAMP:20260420T102142
CREATED:20240311T153502Z
LAST-MODIFIED:20240311T153502Z
UID:17217-1711796400-1711800000@gettuckered.com
SUMMARY:Beaver Walk
DESCRIPTION:Beavers! What role do they play in the environment? What impact do they have on the areas they live? Come and learn more about North America’s largest rodent and ecosystem engineer on this guided hike with volunteer Robin! \nThe walk starts at the Freeland Boardwalk\, a 0.5-mile\, ADA-accessible boardwalk trail. \nThis program may be rescheduled or canceled in the event of inclement weather. Stay tuned to our website and Facebook page for updates to this event. \nAddress: Freeland Boardwalk – 1119 Freeland Rd\, Davis\, WV 26260
URL:https://gettuckered.com/event/beaver-walk/
LOCATION:Canaan Valley National Wildlife Refuge\, 6263 Appalachian Hwy\, Davis\, WV\, 26260\, United States
ATTACH;FMTTYPE=image/png:https://gettuckered.com/wp-content/uploads/2024/03/20240230_Beaver-Walk.png
ORGANIZER;CN="Canaan Valley National Wildlife Refuge":MAILTO:canaanvalley@fws.gov
END:VEVENT
END:VCALENDAR