BEGIN:VCALENDAR
VERSION:2.0
PRODID:-//Canaan Valley, WV - ECPv6.15.14//NONSGML v1.0//EN
CALSCALE:GREGORIAN
METHOD:PUBLISH
X-ORIGINAL-URL:https://gettuckered.com
X-WR-CALDESC:Events for Canaan Valley, WV
REFRESH-INTERVAL;VALUE=DURATION:PT1H
X-Robots-Tag:noindex
X-PUBLISHED-TTL:PT1H
BEGIN:VTIMEZONE
TZID:America/New_York
BEGIN:DAYLIGHT
TZOFFSETFROM:-0500
TZOFFSETTO:-0400
TZNAME:EDT
DTSTART:20230312T070000
END:DAYLIGHT
BEGIN:STANDARD
TZOFFSETFROM:-0400
TZOFFSETTO:-0500
TZNAME:EST
DTSTART:20231105T060000
END:STANDARD
BEGIN:DAYLIGHT
TZOFFSETFROM:-0500
TZOFFSETTO:-0400
TZNAME:EDT
DTSTART:20240310T070000
END:DAYLIGHT
BEGIN:STANDARD
TZOFFSETFROM:-0400
TZOFFSETTO:-0500
TZNAME:EST
DTSTART:20241103T060000
END:STANDARD
BEGIN:DAYLIGHT
TZOFFSETFROM:-0500
TZOFFSETTO:-0400
TZNAME:EDT
DTSTART:20250309T070000
END:DAYLIGHT
BEGIN:STANDARD
TZOFFSETFROM:-0400
TZOFFSETTO:-0500
TZNAME:EST
DTSTART:20251102T060000
END:STANDARD
END:VTIMEZONE
BEGIN:VEVENT
DTSTART;TZID=America/New_York:20240704T120000
DTEND;TZID=America/New_York:20240704T170000
DTSTAMP:20260424T081855
CREATED:20240729T142438Z
LAST-MODIFIED:20240729T142438Z
UID:20316-1720094400-1720112400@gettuckered.com
SUMMARY:July 4th Cookout and Field Day
DESCRIPTION:Join us for an afternoon of summer fun in celebration of Independence Day! There will be burgers and hot dogs (in addition to the Mountain Owl Market’s standard fare of sandwiches and salads)\, ice cream\, lawn games\, and activities for all ages!
URL:https://gettuckered.com/event/july-4th-cookout-and-field-day/
LOCATION:Mountain Owl Market\, 2383 Timberline Rd\, Davis\, WV\, 26260\, United States
ATTACH;FMTTYPE=image/png:https://gettuckered.com/wp-content/uploads/2024/06/July4th-Poster-2024-small.png
ORGANIZER;CN="Timberline Mountain":MAILTO:info@timberlinemountain.com
END:VEVENT
BEGIN:VEVENT
DTSTART;TZID=America/New_York:20240706T203000
DTEND;TZID=America/New_York:20240706T220000
DTSTAMP:20260424T081855
CREATED:20230425T161841Z
LAST-MODIFIED:20240311T154522Z
UID:10214-1720297800-1720303200@gettuckered.com
SUMMARY:July 4th Fireworks
DESCRIPTION:Fireworks start just after Dark along Front Street in Thomas\, WV.
URL:https://gettuckered.com/event/july-4th-fireworks/
LOCATION:Thomas\, WV\, 290 Front St Thomas\, WV 26292\, Thomas\, WV
END:VEVENT
BEGIN:VEVENT
DTSTART;TZID=America/New_York:20240707T140000
DTEND;TZID=America/New_York:20240707T170000
DTSTAMP:20260424T081855
CREATED:20230425T162150Z
LAST-MODIFIED:20240311T154740Z
UID:10215-1720360800-1720371600@gettuckered.com
SUMMARY:Celebration of the Arts\, Wheeling Symphony Orchestra
DESCRIPTION:Celebrate July 4th with this free show from the Wheeling Symphony Orchestra. \nMusic starts at 3:00pm
URL:https://gettuckered.com/event/celebration-of-the-arts-wheeling-symphony-orchestra/
LOCATION:Canaan Valley Resort Ski Area
END:VEVENT
BEGIN:VEVENT
DTSTART;TZID=America/New_York:20240709T130000
DTEND;TZID=America/New_York:20240709T150000
DTSTAMP:20260424T081855
CREATED:20240528T133115Z
LAST-MODIFIED:20240528T133115Z
UID:19370-1720530000-1720537200@gettuckered.com
SUMMARY:Lunch and Learn
DESCRIPTION:Speak with professionals who can help you with everything from start to finish on getting your first High Tunnel. Demonstrations followed by Q&A time. A great opportunity for learning and meeting the people who can help you succeed. Locally sourced lunch by Laurel Fork Farm.
URL:https://gettuckered.com/event/lunch-and-learn/
LOCATION:Laurel River Club Bed & Breakfast\, 417 Jenningston Farm Rd\, Bowden\, WV\, 26254\, United States
ATTACH;FMTTYPE=image/png:https://gettuckered.com/wp-content/uploads/2024/05/Laurel-River-Club-BnB-Laurel-Fork-Farm.png
ORGANIZER;CN="West Virginia School of Traditional Skills":MAILTO:marsha@lrcbnb.com
END:VEVENT
END:VCALENDAR