BEGIN:VCALENDAR
VERSION:2.0
PRODID:-//Canaan Valley, WV - ECPv6.15.14//NONSGML v1.0//EN
CALSCALE:GREGORIAN
METHOD:PUBLISH
X-WR-CALNAME:Canaan Valley, WV
X-ORIGINAL-URL:https://gettuckered.com
X-WR-CALDESC:Events for Canaan Valley, WV
REFRESH-INTERVAL;VALUE=DURATION:PT1H
X-Robots-Tag:noindex
X-PUBLISHED-TTL:PT1H
BEGIN:VTIMEZONE
TZID:America/New_York
BEGIN:DAYLIGHT
TZOFFSETFROM:-0500
TZOFFSETTO:-0400
TZNAME:EDT
DTSTART:20240310T070000
END:DAYLIGHT
BEGIN:STANDARD
TZOFFSETFROM:-0400
TZOFFSETTO:-0500
TZNAME:EST
DTSTART:20241103T060000
END:STANDARD
BEGIN:DAYLIGHT
TZOFFSETFROM:-0500
TZOFFSETTO:-0400
TZNAME:EDT
DTSTART:20250309T070000
END:DAYLIGHT
BEGIN:STANDARD
TZOFFSETFROM:-0400
TZOFFSETTO:-0500
TZNAME:EST
DTSTART:20251102T060000
END:STANDARD
BEGIN:DAYLIGHT
TZOFFSETFROM:-0500
TZOFFSETTO:-0400
TZNAME:EDT
DTSTART:20260308T070000
END:DAYLIGHT
BEGIN:STANDARD
TZOFFSETFROM:-0400
TZOFFSETTO:-0500
TZNAME:EST
DTSTART:20261101T060000
END:STANDARD
END:VTIMEZONE
BEGIN:VEVENT
DTSTART;TZID=America/New_York:20250702T110000
DTEND;TZID=America/New_York:20250702T120000
DTSTAMP:20260419T111034
CREATED:20250630T210701Z
LAST-MODIFIED:20250630T210701Z
UID:106173-1751454000-1751457600@gettuckered.com
SUMMARY:Wild Wednesdays: Excellent Eagles
DESCRIPTION:Join us on this hour-long adventure geared towards 3-8 year-olds and their parents/guardians. This free program includes a short story time\, a hands-on activity outdoors\, and a craft they can take home. This program occurs every Wednesday from June 18th until August 6th\, with a different theme every week. This week’s theme is all about eagles. \nThis program begins at the Refuge Visitor Center at 11AM. While registration is not required\, you can let us know you’re coming by registering at this link\, https://forms.office.com/g/cdP0jGnkgw
URL:https://gettuckered.com/event/wild-wednesdays-excellent-eagles/
LOCATION:Canaan Valley National Wildlife Refuge\, 6263 Appalachian Hwy\, Davis\, WV\, 26260\, United States
ATTACH;FMTTYPE=image/jpeg:https://gettuckered.com/wp-content/uploads/2025/06/20250702_WildWednesday.jpg
ORGANIZER;CN="Canaan Valley National Wildlife Refuge":MAILTO:canaanvalley@fws.gov
END:VEVENT
END:VCALENDAR