BEGIN:VCALENDAR
VERSION:2.0
PRODID:-//Canaan Valley, WV - ECPv6.15.14//NONSGML v1.0//EN
CALSCALE:GREGORIAN
METHOD:PUBLISH
X-ORIGINAL-URL:https://gettuckered.com
X-WR-CALDESC:Events for Canaan Valley, WV
REFRESH-INTERVAL;VALUE=DURATION:PT1H
X-Robots-Tag:noindex
X-PUBLISHED-TTL:PT1H
BEGIN:VTIMEZONE
TZID:America/New_York
BEGIN:DAYLIGHT
TZOFFSETFROM:-0500
TZOFFSETTO:-0400
TZNAME:EDT
DTSTART:20240310T070000
END:DAYLIGHT
BEGIN:STANDARD
TZOFFSETFROM:-0400
TZOFFSETTO:-0500
TZNAME:EST
DTSTART:20241103T060000
END:STANDARD
BEGIN:DAYLIGHT
TZOFFSETFROM:-0500
TZOFFSETTO:-0400
TZNAME:EDT
DTSTART:20250309T070000
END:DAYLIGHT
BEGIN:STANDARD
TZOFFSETFROM:-0400
TZOFFSETTO:-0500
TZNAME:EST
DTSTART:20251102T060000
END:STANDARD
BEGIN:DAYLIGHT
TZOFFSETFROM:-0500
TZOFFSETTO:-0400
TZNAME:EDT
DTSTART:20260308T070000
END:DAYLIGHT
BEGIN:STANDARD
TZOFFSETFROM:-0400
TZOFFSETTO:-0500
TZNAME:EST
DTSTART:20261101T060000
END:STANDARD
END:VTIMEZONE
BEGIN:VEVENT
DTSTART;TZID=America/New_York:20250830T100000
DTEND;TZID=America/New_York:20250830T220000
DTSTAMP:20260419T131829
CREATED:20250814T154144Z
LAST-MODIFIED:20250814T154301Z
UID:134560-1756548000-1756591200@gettuckered.com
SUMMARY:Parsons Days
DESCRIPTION:Come out on August 30\, 2025 and celebrate Parsons with us!\nThis will be our First Annual Parsons Days.\nWe will have Live Concerts in the Park\, along with Pickle Ball Tournament\, Cornhole Tournament\, and 3 on 3 Basketball Tournament.\nAlso\, a Show Your Ride Event.\nHungry? Well we have a TON of Food Vendors as well as Craft Vendors setting up!\nThe kids will have so much to do with our bouncy houses\, face painting\, as well as our splash park. \nCome See Us on August 30!
URL:https://gettuckered.com/event/parsons-days/
LOCATION:City of Parsons
ATTACH;FMTTYPE=image/jpeg:https://gettuckered.com/wp-content/uploads/2025/08/Parsons-Days-2-1-scaled.jpg
END:VEVENT
END:VCALENDAR