BEGIN:VCALENDAR
VERSION:2.0
PRODID:-//Canaan Valley, WV - ECPv6.15.14//NONSGML v1.0//EN
CALSCALE:GREGORIAN
METHOD:PUBLISH
X-ORIGINAL-URL:https://gettuckered.com
X-WR-CALDESC:Events for Canaan Valley, WV
REFRESH-INTERVAL;VALUE=DURATION:PT1H
X-Robots-Tag:noindex
X-PUBLISHED-TTL:PT1H
BEGIN:VTIMEZONE
TZID:America/New_York
BEGIN:DAYLIGHT
TZOFFSETFROM:-0500
TZOFFSETTO:-0400
TZNAME:EDT
DTSTART:20240310T070000
END:DAYLIGHT
BEGIN:STANDARD
TZOFFSETFROM:-0400
TZOFFSETTO:-0500
TZNAME:EST
DTSTART:20241103T060000
END:STANDARD
BEGIN:DAYLIGHT
TZOFFSETFROM:-0500
TZOFFSETTO:-0400
TZNAME:EDT
DTSTART:20250309T070000
END:DAYLIGHT
BEGIN:STANDARD
TZOFFSETFROM:-0400
TZOFFSETTO:-0500
TZNAME:EST
DTSTART:20251102T060000
END:STANDARD
BEGIN:DAYLIGHT
TZOFFSETFROM:-0500
TZOFFSETTO:-0400
TZNAME:EDT
DTSTART:20260308T070000
END:DAYLIGHT
BEGIN:STANDARD
TZOFFSETFROM:-0400
TZOFFSETTO:-0500
TZNAME:EST
DTSTART:20261101T060000
END:STANDARD
END:VTIMEZONE
BEGIN:VEVENT
DTSTART;TZID=America/New_York:20250929T150000
DTEND;TZID=America/New_York:20250929T233000
DTSTAMP:20260419T173513
CREATED:20251006T135623Z
LAST-MODIFIED:20251006T140536Z
UID:136106-1759158000-1759188600@gettuckered.com
SUMMARY:STICKS + STONES – Presented by Emerald Tree Boutique and Sisters Witches Crafting Company
DESCRIPTION:We invite you to join our Third Annual Sticks & Stones festival. This year\, we are thrilled to celebrate the season with our biggest festival yet. Sticks and Stones will be partnering with many local businesses to enchant the streets of Downtown Davis\, West Virginia\, with magical fun for the whole family. Come out and enjoy:\n* Seasonal food and refreshments\n* The Witches Dance\n* Rosemary broom making\n* Sigil crafting\n* Face painting\n* Photos with your ghost bestie\n* Sticks and Stones goddess photo op\n* Permanent jewelry bar\n* Tea potion bar and tea leaf reading\n* Pumpkin carving\n* Family spooky season movies on the grassy holler\n* Kids’ activities\, and much much more!\nWe look forward to seeing you there!\nALSO\,\nSTICKS and STONES first Official After Party\nWe’re thrilled to announce that we’re partnering with ISH and The Billy Motel to host the first annual Sticks and Stones Official After Party this year!\nJoin us at the ISH Bar and Restaurant at The Billy Motel to continue the magic. Get into the spirit\, dress up\, and enjoy swanky\, spooky specialty drinks\, dancing\, and fun. Costumes are highly encouraged\, and we’ll have Sticks and Stones photo opportunities available throughout the night.\nWe can’t wait to celebrate with you!\nWho is ready?!
URL:https://gettuckered.com/event/sticks-stones-presented-by-emerald-tree-boutique-and-sisters-witches-crafting-company-2/
LOCATION:Emerald Tree Boutique\, 415 William Avenue\, DAVIS\, WV\, 26260\, United States
ATTACH;FMTTYPE=image/jpeg:https://gettuckered.com/wp-content/uploads/2025/09/STICKS-AND-STONES-DETAILED-FLYER-2025-Eris-scaled.jpg
END:VEVENT
END:VCALENDAR