BEGIN:VCALENDAR
VERSION:2.0
PRODID:-//Canaan Valley, WV - ECPv6.15.14//NONSGML v1.0//EN
CALSCALE:GREGORIAN
METHOD:PUBLISH
X-WR-CALNAME:Canaan Valley, WV
X-ORIGINAL-URL:https://gettuckered.com
X-WR-CALDESC:Events for Canaan Valley, WV
REFRESH-INTERVAL;VALUE=DURATION:PT1H
X-Robots-Tag:noindex
X-PUBLISHED-TTL:PT1H
BEGIN:VTIMEZONE
TZID:America/New_York
BEGIN:DAYLIGHT
TZOFFSETFROM:-0500
TZOFFSETTO:-0400
TZNAME:EDT
DTSTART:20230312T070000
END:DAYLIGHT
BEGIN:STANDARD
TZOFFSETFROM:-0400
TZOFFSETTO:-0500
TZNAME:EST
DTSTART:20231105T060000
END:STANDARD
BEGIN:DAYLIGHT
TZOFFSETFROM:-0500
TZOFFSETTO:-0400
TZNAME:EDT
DTSTART:20240310T070000
END:DAYLIGHT
BEGIN:STANDARD
TZOFFSETFROM:-0400
TZOFFSETTO:-0500
TZNAME:EST
DTSTART:20241103T060000
END:STANDARD
BEGIN:DAYLIGHT
TZOFFSETFROM:-0500
TZOFFSETTO:-0400
TZNAME:EDT
DTSTART:20250309T070000
END:DAYLIGHT
BEGIN:STANDARD
TZOFFSETFROM:-0400
TZOFFSETTO:-0500
TZNAME:EST
DTSTART:20251102T060000
END:STANDARD
END:VTIMEZONE
BEGIN:VEVENT
DTSTART;TZID=America/New_York:20240509T080000
DTEND;TZID=America/New_York:20240509T100000
DTSTAMP:20260420T101619
CREATED:20240419T143539Z
LAST-MODIFIED:20240419T143539Z
UID:18107-1715241600-1715248800@gettuckered.com
SUMMARY:High-elevation Bird Walk
DESCRIPTION:Join volunteer Herb along Wilderness Way on a guided bird walk to see some of the birds that live in high-elevation areas! No birding experience required—we can even provide binoculars! \nThis walk will be around two miles along gravel road and native material trail with slight elevation increases. Group will be meeting at the visitor center at 7:30am if you wish to carpool to the destination! \nHerb is a retired physician and volunteer at Canaan Valley National Wildlife Refuge. He took up birding as a hobby when he turned 60 and now has a North American life list of 605 birds! \nThis event may be canceled or rescheduled in the event of inclement weather. Please stay tuned to the refuge website and Facebook page for updates to this event.\nAddress: The Wilderness Way parking area is located 1.5 miles up Forest Road 80.
URL:https://gettuckered.com/event/high-elevation-bird-walk/
LOCATION:Canaan Valley National Wildlife Refuge\, 6263 Appalachian Hwy\, Davis\, WV\, 26260\, United States
ATTACH;FMTTYPE=image/png:https://gettuckered.com/wp-content/uploads/2024/04/20240509_HE-Bird-Walk.png
ORGANIZER;CN="Canaan Valley National Wildlife Refuge":MAILTO:canaanvalley@fws.gov
END:VEVENT
END:VCALENDAR